BEGIN:VCALENDAR
VERSION:2.0
PRODID:-//wp-events-plugin.com//7.2.3.1//EN
TZID:Australia/Melbourne
X-WR-TIMEZONE:Australia/Melbourne
BEGIN:VEVENT
UID:2957@6thmelbournescouts.org.au
DTSTART;TZID=Australia/Melbourne:20191115T170000
DTEND;TZID=Australia/Melbourne:20191117T160000
DTSTAMP:20190912T111343Z
URL:https://6thmelbournescouts.org.au/events/gilweroo-2019/
SUMMARY:Gilweroo 2019 - Bay Park Scout Camp\, Joseph Harris Park - 15 Nov 1
 9 17:00
DESCRIPTION:The most jam-packed Scout weekend of the year!\n\nGilweroo is o
 ne of our most popular camps. The camp is run like a mini Jamboree style a
 ctivities weekend.\n\nGilweroo 2019 will see over 2\,000 Scouts come toget
 her for a weekend of activities including abseiling\, rockclimbing\, air r
 ifles\, geocaching\, flying fox\, huge parties\, zorbing and BMX biking. T
 here is something for absolutely everyone! \n\nOur Scouts will be so busy 
 having fun that we need to cater for them. Parent Helpers attend at no c
 ost (we cover the fees and food) and will not be responsible for anything 
 other than making sure everyone has enough to eat. It's also a great way t
 o spend time with your Scout!\n\nPatrol Leaders are asked to meet at the h
 all at 5:00pm to assist with trailer packing. All Scouts are to arrive at 
 5:30pm to depart no later than 6:00pm.\n\nGates open for departure after t
 he closing ceremony at 4:00pm. Please be aware that there can be some del
 ays getting off-site due to the number of vehicles.\n\nFor parents\, pleas
 e check that you have completed the following:\n\n 	Registered your vehicl
 e for parking and site access\n 	Told us and your Scout Leader about your 
 child coming late or leaving early\n 	Signed off our electronic Special Ac
 tivity Permission Form\n 	Provided approval for Air Rifle activity (12yo+ 
 in Omega Patrol only)\n 	Checked that your child's Care Monkey information
  is up to date\n 	If you are staying overnight or helping during the day\,
  checked that your own Care Monkey information is up to date\n\nPlease fol
 low this link to our Generic Camp Packing List\n\nCheck out the Gilweroo
  Website for more information\n\nCost: $55 Camp Activities\, $15 food \, 
 TOTAL $70.00\n\nBooking information: https://www.trybooking.com/BFMQY\n\n
 &nbsp\;\n\n&nbsp\;\n\n&nbsp\;\n\n&nbsp\;\n\n&nbsp\;
CATEGORIES:Scout Events
LOCATION:Bay Park Scout Camp\, Joseph Harris Park\, Hearn Rd\, Mt Martha\, 
 Vic\, 3934\, Australia
X-APPLE-STRUCTURED-LOCATION;VALUE=URI;X-ADDRESS=Hearn Rd\, Mt Martha\, Vic\
 , 3934\, Australia;X-APPLE-RADIUS=100;X-TITLE=Bay Park Scout Camp\, Joseph
  Harris Park:geo:0,0
END:VEVENT
BEGIN:VTIMEZONE
TZID:Australia/Melbourne
X-LIC-LOCATION:Australia/Melbourne
BEGIN:DAYLIGHT
DTSTART:20191006T030000
TZOFFSETFROM:+1000
TZOFFSETTO:+1100
TZNAME:AEDT
END:DAYLIGHT
END:VTIMEZONE
END:VCALENDAR